BEGIN:VCALENDAR
VERSION:2.0
PRODID:-//The D’Amico Institute of Art - ECPv6.15.15//NONSGML v1.0//EN
CALSCALE:GREGORIAN
METHOD:PUBLISH
X-WR-CALNAME:The D’Amico Institute of Art
X-ORIGINAL-URL:https://damico-art.org
X-WR-CALDESC:Events for The D’Amico Institute of Art
REFRESH-INTERVAL;VALUE=DURATION:PT1H
X-Robots-Tag:noindex
X-PUBLISHED-TTL:PT1H
BEGIN:VTIMEZONE
TZID:America/New_York
BEGIN:DAYLIGHT
TZOFFSETFROM:-0500
TZOFFSETTO:-0400
TZNAME:EDT
DTSTART:20250309T070000
END:DAYLIGHT
BEGIN:STANDARD
TZOFFSETFROM:-0400
TZOFFSETTO:-0500
TZNAME:EST
DTSTART:20251102T060000
END:STANDARD
BEGIN:DAYLIGHT
TZOFFSETFROM:-0500
TZOFFSETTO:-0400
TZNAME:EDT
DTSTART:20260308T070000
END:DAYLIGHT
BEGIN:STANDARD
TZOFFSETFROM:-0400
TZOFFSETTO:-0500
TZNAME:EST
DTSTART:20261101T060000
END:STANDARD
BEGIN:DAYLIGHT
TZOFFSETFROM:-0500
TZOFFSETTO:-0400
TZNAME:EDT
DTSTART:20270314T070000
END:DAYLIGHT
BEGIN:STANDARD
TZOFFSETFROM:-0400
TZOFFSETTO:-0500
TZNAME:EST
DTSTART:20271107T060000
END:STANDARD
END:VTIMEZONE
BEGIN:VEVENT
DTSTART;TZID=America/New_York:20260921T090000
DTEND;TZID=America/New_York:20260925T120000
DTSTAMP:20260422T091141
CREATED:20260320T192046Z
LAST-MODIFIED:20260408T005604Z
UID:10012231-1789981200-1790337600@damico-art.org
SUMMARY:FELTING with Kerry Sharkey-Miller (a.m.)
DESCRIPTION:Open to all levels\nAll supplies provided\nParticipants can tour the D’Amico House midweek\n\nExplore the alchemy of the ancient art of wet-felting\, the process of blending wool fibers together using bubble wrap\, soap\, water and elbow grease to create an incredibly strong and versatile fabric. Participants will be introduced to the basic techniques of laying out wool fiber and processing the material into both 2 and 3 dimensional felted objects\, and explore incorporating a variety of materials and techniques for surface embellishments. A critique will be held on the last day of class. \nInstructor: Kerry Sharkey-Miller
URL:https://damico-art.org/event/felting/
LOCATION:The Art Barge\, Napeague Meadow Road\, Amagansett\, 11930\, United States
CATEGORIES:Workshops
ATTACH;FMTTYPE=image/jpeg:https://damico-art.org/wp-content/uploads/2025/06/Event-Photo-1-scaled.jpg
END:VEVENT
END:VCALENDAR